BEGIN:VCALENDAR
VERSION:2.0
PRODID:-//Федерация фигурного катания на коньках Республики Татарстан - ECPv6.15.20//NONSGML v1.0//EN
CALSCALE:GREGORIAN
METHOD:PUBLISH
X-ORIGINAL-URL:https://fstatarstan.ru
X-WR-CALDESC:Мероприятия для Федерация фигурного катания на коньках Республики Татарстан
REFRESH-INTERVAL;VALUE=DURATION:PT1H
X-Robots-Tag:noindex
X-PUBLISHED-TTL:PT1H
BEGIN:VTIMEZONE
TZID:Europe/Moscow
BEGIN:STANDARD
TZOFFSETFROM:+0300
TZOFFSETTO:+0300
TZNAME:MSK
DTSTART:20230101T000000
END:STANDARD
END:VTIMEZONE
BEGIN:VEVENT
DTSTART;VALUE=DATE:20241101
DTEND;VALUE=DATE:20241104
DTSTAMP:20260419T223508
CREATED:20241020T132300Z
LAST-MODIFIED:20241103T202751Z
UID:4556-1730419200-1730678399@fstatarstan.ru
SUMMARY:Этап Ростелеком Гран При России «Идель 2024»
DESCRIPTION:Всероссийские соревнования «Ростелеком Гран При России — Идель-2024» \n\n\n\n\nСроки проведения: 01 — 03 ноября 2024 года \nМесто проведения: г. Казань\, Дворец спорта \nАдрес места проведения: г. Казань\, ул. Московская\, д. 1 \nРазмер площадки: 28 х 60 м \nРазряды: МС \nВиды: одиночное и парное катание\n\n\n\nРезультаты соревнований  \nИнформация о соревнованиях на сайте Федерации фигурного катания на коньках России \nВыступление сильнейших женщин на Гран-при России в Казани (1-6 места) \n \nВыступление женщин на Гран-при России в Казани (7-12 места) \n \nОпределились победители у мужчин на Гран-при России в Казани \n \nПарники завершили III этап Гран-при России в Казани
URL:https://fstatarstan.ru/event/etap-rostelekom-gran-pri-rossii-idel-2024/
CATEGORIES:Соревнования
ATTACH;FMTTYPE=image/jpeg:https://fstatarstan.ru/wp-content/uploads/2024/10/afisha-granpri2024-1.jpg
END:VEVENT
END:VCALENDAR