BEGIN:VCALENDAR
VERSION:2.0
PRODID:-//Федерация фигурного катания на коньках Республики Татарстан - ECPv6.15.20//NONSGML v1.0//EN
CALSCALE:GREGORIAN
METHOD:PUBLISH
X-WR-CALNAME:Федерация фигурного катания на коньках Республики Татарстан
X-ORIGINAL-URL:https://fstatarstan.ru
X-WR-CALDESC:Мероприятия для Федерация фигурного катания на коньках Республики Татарстан
REFRESH-INTERVAL;VALUE=DURATION:PT1H
X-Robots-Tag:noindex
X-PUBLISHED-TTL:PT1H
BEGIN:VTIMEZONE
TZID:Europe/Moscow
BEGIN:STANDARD
TZOFFSETFROM:+0300
TZOFFSETTO:+0300
TZNAME:MSK
DTSTART:20230101T000000
END:STANDARD
END:VTIMEZONE
BEGIN:VEVENT
DTSTART;VALUE=DATE:20250523
DTEND;VALUE=DATE:20250526
DTSTAMP:20260419T202502
CREATED:20250306T163841Z
LAST-MODIFIED:20250831T192503Z
UID:5449-1747958400-1748217599@fstatarstan.ru
SUMMARY:Летние встречи
DESCRIPTION:Республиканские классификационные соревнования  «Летние встречи»\nОдиночное катание. 3 спортивный разряд-МС\nКлассификационные соревнования «Летние встречи»\nОдиночное катание. 3 юн.разряд — 1 юн.разряд\nФестиваль «Летние встречи»\nОдиночное катание. Юный фигурист\, Первые шаги\, Любители\n\n\nГлавный судья: Безменов Е.А.\nЗам.гл.судьи: Аминова А.Р.
URL:https://fstatarstan.ru/event/letnie-vstrechi/
LOCATION:ЛА «Юдино»\, Политехническая\, 3а Юдино м-н\, Кировский район\, Казань\, 420078\, Russian Federation
CATEGORIES:Соревнования
END:VEVENT
BEGIN:VEVENT
DTSTART;VALUE=DATE:20250516
DTEND;VALUE=DATE:20250519
DTSTAMP:20260419T202502
CREATED:20250306T163652Z
LAST-MODIFIED:20250530T071313Z
UID:5446-1747353600-1747612799@fstatarstan.ru
SUMMARY:Кубок Грации (2 этап)
DESCRIPTION:Республиканские классификационные соревнования  «Кубок Грации» (2 этап)\nОдиночное катание. 3 спортивный разряд-МС\nКлассификационные соревнования «Кубок Грации» (2 этап)\nОдиночное катание. 3 юн.разряд — 1 юн.разряд\n\n\nГлавный судья: Безменова Е.А.\nЗам.гл.судьи: Аминова А.Р. \n\n Регламент Республиканских классификационных соревнований по фигурному катанию на коньках  «Кубок Грации» (2 этап) \n Регламент Классификационных соревнований по фигурному катанию на коньках  «Кубок Грации» (2 этап) \n Онлайн-табло
URL:https://fstatarstan.ru/event/kubok-gratsii-2-etap/
LOCATION:СК «Ватан»\, Казань\, Russian Federation
CATEGORIES:Соревнования
END:VEVENT
BEGIN:VEVENT
DTSTART;VALUE=DATE:20250511
DTEND;VALUE=DATE:20250513
DTSTAMP:20260419T202502
CREATED:20250306T161724Z
LAST-MODIFIED:20250522T072847Z
UID:5440-1746921600-1747094399@fstatarstan.ru
SUMMARY:Весенняя капель
DESCRIPTION:Республиканские классификационные соревнования  «Весенняя капель»\nОдиночное катание. 3 спортивный разряд-МС\nКлассификационные соревнования «Весенняя капель» 6-12 лет\nОдиночное катание. 3 юн.разряд — 1 юн.разряд\nКлассификационные соревнования «Весенняя капель» 11-17 лет\nОдиночное катание. 3 юн.разряд — 1 юн.разряд\n\n\nГлавный судья: Безменов Е.А.\nЗам.гл.судьи: Трусова Р.В. \n \n\n Регламент Республиканских классификационных соревнований по фигурному катанию на коньках «Весенняя капель» \n Регламент Классификационных соревнований по фигурному катанию на коньках «Весенняя капель» (6-12 лет) \n Регламент Классификационных соревнований по фигурному катанию на коньках «Весенняя капель» (11-17 лет) \n Онлайн-табло \n Протокол Республиканских классификационных соревнований по фигурному катанию на коньках «Весенняя капель» \n Протокол Классификационных соревнований по фигурному катанию на коньках «Весенняя капель» (6-12 лет) \n Протокол Классификационных соревнований по фигурному катанию на коньках «Весенняя капель» (11-17 лет) \n 
URL:https://fstatarstan.ru/event/vesennyaya-kapel/
LOCATION:Татнефть Арена\, Казань\, Russian Federation
CATEGORIES:Соревнования
END:VEVENT
BEGIN:VEVENT
DTSTART;VALUE=DATE:20250508
DTEND;VALUE=DATE:20250510
DTSTAMP:20260419T202502
CREATED:20250306T163336Z
LAST-MODIFIED:20250520T045129Z
UID:5444-1746662400-1746835199@fstatarstan.ru
SUMMARY:Кубок Челнов
DESCRIPTION:Республиканские классификационные соревнования  «Кубок Челнов»\nОдиночное катание. 3 спортивный разряд-МС\nКлассификационные соревнования «Кубок Челнов»\nОдиночное катание. 3 юн.разряд — 1 юн.разряд\n\n\nГлавный судья: Аминова А.Р.\nЗам.гл.судьи: Гафарова К.Г. \n\n Регламент Республиканских классификационных соревнований  по фигурному катанию на коньках «Кубок Челнов» \n Регламент Классификационных соревнований по фигурному катанию на коньках «Кубок Челнов»  \n Онлайн-табло \n Протокол Республиканских классификационных соревнований  по фигурному катанию на коньках «Кубок Челнов» \n Протокол Классификационных соревнований по фигурному катанию на коньках «Кубок Челнов» 
URL:https://fstatarstan.ru/event/kubok-chelnov-2-etap/
LOCATION:Ледовый дворец спорта\, пр. Сююмбике\, 44\, Набережные Челны\, Russian Federation
CATEGORIES:Соревнования
END:VEVENT
BEGIN:VEVENT
DTSTART;VALUE=DATE:20250502
DTEND;VALUE=DATE:20250504
DTSTAMP:20260419T202502
CREATED:20250306T161325Z
LAST-MODIFIED:20250306T161325Z
UID:5436-1746144000-1746316799@fstatarstan.ru
SUMMARY:Галактика (2 этап)
DESCRIPTION:Республиканские классификационные соревнования  «Галактика» (2 этап)\nОдиночное катание. 3 спортивный разряд-МС\nКлассификационные соревнования  «Галактика» (2 этап)\nОдиночное катание. 3 юн.разряд – 1 юн.разряд\nСоревнования «Галактика» (2 этап)\nОдиночное катание. Юный фигурист\, Первые шаги\, Любители\n\n\nГлавный судья: Безменов Е.А.
URL:https://fstatarstan.ru/event/galaktika-2-etap/
LOCATION:ЛА «Триумф»\, Казань\, Russian Federation
CATEGORIES:Соревнования
END:VEVENT
BEGIN:VEVENT
DTSTART;VALUE=DATE:20250501
DTEND;VALUE=DATE:20250504
DTSTAMP:20260419T202502
CREATED:20250306T160916Z
LAST-MODIFIED:20250306T160916Z
UID:5433-1746057600-1746316799@fstatarstan.ru
SUMMARY:Кубок Нефтяника (2 этап)
DESCRIPTION:Республиканские классификационные соревнования  «Кубок Нефтяника» (2 этап)\nОдиночное катание. 3 спортивный разряд-МС\nКлассификационные соревнования  «Кубок Нефтяника» (2 этап)\nОдиночное катание. 3 юн.разряд – 1 юн.разряд\nСоревнования «Кубок Нефтяника» (2 этап)\nОдиночное катание. Юный фигурист – Первые шаги\n\n\nГлавный судья: Аминова А.Р.\nЗам.гл.судьи: Гафарова К.Г.
URL:https://fstatarstan.ru/event/kubok-neftyanika-2-etap/
LOCATION:ДС «Юбилейный» Альметьевск\, Альметьевск\, Russian Federation
CATEGORIES:Соревнования
END:VEVENT
BEGIN:VEVENT
DTSTART;VALUE=DATE:20250425
DTEND;VALUE=DATE:20250427
DTSTAMP:20260419T202502
CREATED:20250306T160512Z
LAST-MODIFIED:20250429T183637Z
UID:5431-1745539200-1745711999@fstatarstan.ru
SUMMARY:Финал Кубка РТ - Кубок Федерации ФКК РТ
DESCRIPTION:Финал Кубка РТ — Кубок Федерации ФКК РТ\nОдиночное катание. 3 спортивный разряд-МС.\n\n\nГлавный судья: Безменов Е.А.\nЗам.гл.судьи: Аминова А.Р. \n\n Онлайн-табло \n Протокол Финала Кубка Республики Татарстан по фигурному катанию на коньках
URL:https://fstatarstan.ru/event/final-kubka-rt-kubok-federatsii-fkk-rt/
CATEGORIES:Соревнования
END:VEVENT
BEGIN:VEVENT
DTSTART;VALUE=DATE:20250419
DTEND;VALUE=DATE:20250421
DTSTAMP:20260419T202502
CREATED:20250306T155853Z
LAST-MODIFIED:20250306T155853Z
UID:5429-1745020800-1745193599@fstatarstan.ru
SUMMARY:Кубок Биектау (2 этап)
DESCRIPTION:Республиканские классификационные соревнования  «Кубок Биектау» (2 этап)\nОдиночное катание. 3 спортивный разряд-МС.\n(возможно синхронное катание)\nКлассификационные соревнования «Кубок Биектау» (2 этап)\nОдиночное катание. 3 юн.разряд — 1 юн.разряд\nСоревнования «Кубок Биектау» (2 этап)\nОдиночное катание. Юный фигурист\,  Первые шаги\n\n\nГлавный судья: Безменов Е.А.\nЗам.гл.судьи: Аминова А.Р.
URL:https://fstatarstan.ru/event/kubok-biektau-2-etap/
LOCATION:ЛД «Биектау»\, Высокая Гора\, Russian Federation
CATEGORIES:Соревнования
END:VEVENT
BEGIN:VEVENT
DTSTART;VALUE=DATE:20250412
DTEND;VALUE=DATE:20250414
DTSTAMP:20260419T202502
CREATED:20250306T154814Z
LAST-MODIFIED:20250306T154814Z
UID:5426-1744416000-1744588799@fstatarstan.ru
SUMMARY:Соревнования памяти Гуриковой Д.В.
DESCRIPTION:Республиканские классификационные соревнования  памяти ЗРФКРТ Гуриковой Д.В.\nОдиночное катание. 3 спортивный разряд-МС\nКлассификационные соревнования памяти ЗРФКРТ Гуриковой Д.В.\nОдиночное катание. 3 юн.разряд — 1 юн.разряд\nФестиваль памяти ЗРФКРТ Гуриковой Д.В.\nОдиночное катание. Юный фигурист\,  Первые шаги\, Пингвиненок\n\n\nГлавный судья: Безменов Е.А.\nЗам.гл.судьи: Аминова А.Р.
URL:https://fstatarstan.ru/event/sorevnovaniya-pamyati-gurikovoj-d-v/
LOCATION:ЛА «Зилант»\, ул. Хусаина Мавлютова\, 17В\, Казань\, Респ. Татарстан\, Россия\, 420101
CATEGORIES:Соревнования
END:VEVENT
BEGIN:VEVENT
DTSTART;VALUE=DATE:20250408
DTEND;VALUE=DATE:20250411
DTSTAMP:20260419T202502
CREATED:20250306T153011Z
LAST-MODIFIED:20250418T080501Z
UID:5419-1744070400-1744329599@fstatarstan.ru
SUMMARY:Кубок Сююмбике
DESCRIPTION:Республиканские классификационные соревнования  «Кубок Сююмбике»\nКубок Республики Татарстан (2 этап) по фигурному катанию на коньках посвященные 80-ой годовщине Победы в Великой Отечественной Войне 1941-1945 годов.\nОдиночное катание. 3 спортивный разряд-МС\nКлассификационные соревнования «Кубок Сююмбике»  по фигурному катанию на коньках посвященные 80-ой годовщине Победы в Великой Отечественной Войне 1941-1945 годов.\nОдиночное катание. 3 юн.разряд — 1 юн.разряд\n\n\nГлавный судья: Безменов Е.А.\nЗам.гл.судьи: Гафарова К.Г. \n\n Регламент Республиканских Классификационных соревнований «Кубок Сююмбике» Кубка Республики Татарстан (2 этап) по фигурному катанию на коньках посвященных 80-ой годовщине Победы в Великой Отечественной Войне 1941-1945 годов. \n Регламент  Классификационных соревнований «Кубок Сююмбике»  по фигурному катанию на коньках посвященных 80-ой годовщине Победы в Великой Отечественной Войне 1941-1945 годов. \n Протокол Республиканских Классификационных соревнований «Кубок Сююмбике» Кубка Республики Татарстан (2 этап) по фигурному катанию на коньках посвященных 80-ой годовщине Победы в Великой Отечественной Войне 1941-1945 годов. \n Протокол Классификационных соревнований «Кубок Сююмбике»  по фигурному катанию на коньках посвященных 80-ой годовщине Победы в Великой Отечественной Войне 1941-1945 годов.
URL:https://fstatarstan.ru/event/kubok-syuyumbike/
LOCATION:Дворец спорта\, Казань\, Russian Federation
CATEGORIES:Соревнования
END:VEVENT
BEGIN:VEVENT
DTSTART;VALUE=DATE:20250405
DTEND;VALUE=DATE:20250407
DTSTAMP:20260419T202502
CREATED:20250306T154355Z
LAST-MODIFIED:20250415T191157Z
UID:5422-1743811200-1743983999@fstatarstan.ru
SUMMARY:Нарат-2025
DESCRIPTION:Республиканские классификационные соревнования  «Нарат-2025»\nОдиночное катание. 3 спортивный разряд-МС\nКлассификационные соревнования «Нарат-2025»\nОдиночное катание. 3 юн.разряд — 1 юн.разряд\n\n\nГлавный судья: Безменов Е.А.\nЗам.гл.судьи: Аминова А.Р. \n\n \n \n\n Регламент Республиканских Классификационных соревнований «Нарат-2025» по фигурному катанию на коньках \n Регламент Классификационных соревнований «Нарат-2025» по фигурному катанию на коньках \n Протокол Республиканских Классификационных соревнований «Нарат-2025» по фигурному катанию на коньках \n Протокол Классификационных соревнований «Нарат-2025» по фигурному катанию на коньках \n 
URL:https://fstatarstan.ru/event/narat-2025/
LOCATION:СК «Нарат» Лесхоз Сабинского МР РТ\, Сабинский район\, посёлок Лесхоз\, ул. Автозаправочная\, д. 1.\, Казань\, Russian Federation
CATEGORIES:Соревнования
END:VEVENT
BEGIN:VEVENT
DTSTART;VALUE=DATE:20250331
DTEND;VALUE=DATE:20250405
DTSTAMP:20260419T202502
CREATED:20250306T152531Z
LAST-MODIFIED:20250402T180751Z
UID:5417-1743379200-1743811199@fstatarstan.ru
SUMMARY:Первенство России среди девушек и юношей
DESCRIPTION:Первенство России среди девушек и юношей\nОдиночное катание\, Парное катание\, танцы на льду — КМС\n\n\nПолная информация о соревнования на сайте  \n Расписание соревнований в формате pdf \n Онлайн-табло соревнований
URL:https://fstatarstan.ru/event/pervenstvo-rossii-sredi-devushek-i-yunoshej/
LOCATION:Дворец спорта\, Казань\, Russian Federation
CATEGORIES:Соревнования
END:VEVENT
BEGIN:VEVENT
DTSTART;VALUE=DATE:20250324
DTEND;VALUE=DATE:20250326
DTSTAMP:20260419T202502
CREATED:20241226T104038Z
LAST-MODIFIED:20250304T113714Z
UID:5074-1742774400-1742947199@fstatarstan.ru
SUMMARY:Кубок Стрелы (2 этап)
DESCRIPTION:Республиканские классификационные соревнования  «Кубок Стрелы» (2 этап)\nКубок Республики Татарстан (1 этап) по фигурному катанию на коньках\nОдиночное катание. 3 спортивный разряд-МС\nКлассификационные соревнования «Кубок Стрелы» (2 этап)\nОдиночное катание. 3 юн. разряд – 1 юн. разряд\n\n\nГлавный судья: Безменов Е.А.\nЗам.гл.судьи: Аминова А.Р. \n\n Регламент Республиканских классификационные соревнования  «Кубок Стрелы» (2 этап)\, Кубок Республики Татарстан (1 этап) по фигурному катанию на коньках \n Регламент Классификационные соревнования  «Кубок Стрелы» (2 этап) по фигурному катанию на коньках
URL:https://fstatarstan.ru/event/kubok-strely-2-etap/
LOCATION:ЛА «Баско»\, Казань\, Russian Federation
CATEGORIES:Соревнования
END:VEVENT
BEGIN:VEVENT
DTSTART;VALUE=DATE:20250312
DTEND;VALUE=DATE:20250314
DTSTAMP:20260419T202502
CREATED:20241226T102114Z
LAST-MODIFIED:20250326T144959Z
UID:5060-1741737600-1741910399@fstatarstan.ru
SUMMARY:Кубок КФК "Quadro" (2 этап)
DESCRIPTION:Республиканские классификационные соревнования  «Кубок КФК «Quadro»»\nОдиночное катание. 3 спортивный разряд-КМС\nКлассификационные соревнования «Кубок КФК «Quadro»»\nОдиночное катание. 3 юн. разряд – 1 юн. разряд\n\n \n\nГлавный судья: Безменов Е.А.\nЗам.гл.судьи: Трусова Р.В. \n\n Регламент Республиканских классификационных соревнований «Кубок «Quadro» по фигурному катанию на коньках \n Регламент Классификационных соревнований «Кубок «Quadro» по фигурному катанию на коньках \n Протокол Республиканских классификационных соревнований «Кубок «Quadro» по фигурному катанию на коньках \n Протокол Классификационных соревнований «Кубок «Quadro» по фигурному катанию на коньках
URL:https://fstatarstan.ru/event/kubok-kfk-quadro-2-etap/
LOCATION:ЛА «Зилант»\, ул. Хусаина Мавлютова\, 17В\, Казань\, Респ. Татарстан\, Россия\, 420101
CATEGORIES:Соревнования
END:VEVENT
BEGIN:VEVENT
DTSTART;VALUE=DATE:20250308
DTEND;VALUE=DATE:20250310
DTSTAMP:20260419T202502
CREATED:20241226T102908Z
LAST-MODIFIED:20241226T102908Z
UID:5064-1741392000-1741564799@fstatarstan.ru
SUMMARY:Праздник Весны
DESCRIPTION:Республиканские классификационные соревнования  «Праздник Весны»\nОдиночное катание. 3 спортивный разряд-КМС\nКлассификационные соревнования«Праздник Весны»\nОдиночное катание. 3 юн. разряд – 1 юн. разряд\nСоревнования «Праздник Весны»\nЮный фигурист\, Первые шаги\n\n\nГлавный судья: Безменов Е.А.\nЗам.гл.судьи: Аминова А.Р.
URL:https://fstatarstan.ru/event/prazdnik-vesny/
LOCATION:ЛА «Юдино»\, Политехническая\, 3а Юдино м-н\, Кировский район\, Казань\, 420078\, Russian Federation
CATEGORIES:Соревнования
END:VEVENT
BEGIN:VEVENT
DTSTART;VALUE=DATE:20250301
DTEND;VALUE=DATE:20250303
DTSTAMP:20260419T202502
CREATED:20241226T102642Z
LAST-MODIFIED:20250315T190157Z
UID:5062-1740787200-1740959999@fstatarstan.ru
SUMMARY:Кубок Ледокола
DESCRIPTION:Республиканские классификационные соревнования  «Кубок Ледокола»\nОдиночное катание. 3 сп.разряд-1 сп.разряд\nКлассификационные соревнования «Кубок Ледокола»\nОдиночное катание. 3 юн. разряд – 1 юн. разряд\n\n\nГлавный судья: Безменов Е.А.\nЗам.гл.судьи: Гафарова К.Г. \n\n Регламент Республиканских классификационных соревнований «Кубок Ледокола» по фигурному катанию на коньках \n Регламент Классификационных соревнований «Кубок Ледокола» по фигурному катанию на коньках \n Протокол Республиканских классификационных соревнований «Кубок Ледокола» по фигурному катанию на коньках \n Протокол классификационных соревнований «Кубок Ледокола» по фигурному катанию на коньках
URL:https://fstatarstan.ru/event/kubok-ledokola/
LOCATION:ЛД «Ледокол» ЗМР РТ\, Казань\, Russian Federation
CATEGORIES:Соревнования
END:VEVENT
BEGIN:VEVENT
DTSTART;VALUE=DATE:20250222
DTEND;VALUE=DATE:20250224
DTSTAMP:20260419T202502
CREATED:20241226T101724Z
LAST-MODIFIED:20250210T085448Z
UID:5056-1740182400-1740355199@fstatarstan.ru
SUMMARY:Снежность (1 этап)
DESCRIPTION:Соревнования переносятся\, сроки проведения будут объявлены позже! \n\nРеспубликанские классификационные соревнования  «Снежность» (1 этап)\nОдиночное катание. 3 спортивный разряд-КМС\nКлассификационные соревнования «Снежность» (1 этап)\nОдиночное катание. 3 юн. разряд – 1 юн. разряд\n\n\nГлавный судья: Трусова Р.В.\nЗам.гл.судьи: Гафарова К.Г.
URL:https://fstatarstan.ru/event/snezhnost-1-etap/
LOCATION:ЛДС «Олимп»\, совхоз «Мамадышский»\, улица Мира\, д.15 б.\, Мамадышский район\, Russian Federation
CATEGORIES:Соревнования
END:VEVENT
BEGIN:VEVENT
DTSTART;VALUE=DATE:20250214
DTEND;VALUE=DATE:20250217
DTSTAMP:20260419T202502
CREATED:20241226T101253Z
LAST-MODIFIED:20250221T193339Z
UID:5054-1739491200-1739750399@fstatarstan.ru
SUMMARY:Кубок Акселя (2 этап)
DESCRIPTION:Республиканские классификационные соревнования  «Кубок Акселя» (2 этап)\nОдиночное катание. 3 спортивный разряд-МС\nКлассификационные соревнования «Кубок Акселя» (2 этап)\nОдиночное катание. 3 юн. разряд – 1 юн. разряд\nСоревнования «Кубок Акселя» (2 этап)\nОдиночное катание.\nЮный фигурист\, Первые шаги\n\n\nГлавный судья: Безменов Е.А.\nЗам.гл.судьи: Аминова А.Р. \n\n Регламент Республиканских классификационных соревнований «Кубок Акселя» 2 этап по фигурному катанию на коньках \n Регламент классификационных соревнований «Кубок Акселя» 2 этап по фигурному катанию на коньках \n Протокол Республиканских классификационных соревнований «Кубок Акселя» 2 этап по фигурному катанию на коньках \n Протокол классификационных соревнований «Кубок Акселя» 2 этап по фигурному катанию на коньках \n\n			\n				\n			\n			\n				\n			\n			\n				\n			\n		\n\nКубок Акселя (2 этап)
URL:https://fstatarstan.ru/event/kubok-akselya-2-etap/
LOCATION:ЛА «Юдино»\, Политехническая\, 3а Юдино м-н\, Кировский район\, Казань\, 420078\, Russian Federation
CATEGORIES:Соревнования
END:VEVENT
BEGIN:VEVENT
DTSTART;VALUE=DATE:20250208
DTEND;VALUE=DATE:20250210
DTSTAMP:20260419T202502
CREATED:20241226T101028Z
LAST-MODIFIED:20250201T193916Z
UID:5052-1738972800-1739145599@fstatarstan.ru
SUMMARY:Кубок Виража (2 этап)
DESCRIPTION:Фестиваль «Кубок Виража» (2 этап)\nОдиночное катание.\nЮный фигурист\, Первые шаги\n\n\nГлавный судья: Безменов Е.А.\nЗам.гл.судьи: Аминова А.Р.
URL:https://fstatarstan.ru/event/kubok-virazha-2-etap/
LOCATION:ЛА «Юдино»\, Политехническая\, 3а Юдино м-н\, Кировский район\, Казань\, 420078\, Russian Federation
CATEGORIES:Соревнования
END:VEVENT
BEGIN:VEVENT
DTSTART;VALUE=DATE:20250201
DTEND;VALUE=DATE:20250204
DTSTAMP:20260419T202502
CREATED:20241226T100355Z
LAST-MODIFIED:20241226T100355Z
UID:5047-1738368000-1738627199@fstatarstan.ru
SUMMARY:Кубок Челнов (1 этап)
DESCRIPTION:Республиканские классификационные соревнования  «Кубок Челнов» (1 этап)\nОдиночное катание. 3 спортивный разряд-МС\nКлассификационные соревнования «Кубок Челнов» (1 этап)\nОдиночное катание. 3 юн. разряд — 1 юн. разряд\nФестиваль «Кубок Челнов» (1 этап)\nОдиночное катание.\nЮный фигурист\, Первые шаги\n\n\nГлавный судья: Аминова А.Р.\nЗам.гл.судьи: Трусова Р.В.
URL:https://fstatarstan.ru/event/kubok-chelnov-1-etap/
LOCATION:Крытый каток «Камаз»\, Улица 40 лет Победы\, 110\, Набережные Челны\, 423800\, Russian Federation
CATEGORIES:Соревнования
END:VEVENT
BEGIN:VEVENT
DTSTART;VALUE=DATE:20250131
DTEND;VALUE=DATE:20250204
DTSTAMP:20260419T202502
CREATED:20241224T120506Z
LAST-MODIFIED:20241224T120506Z
UID:5039-1738281600-1738627199@fstatarstan.ru
SUMMARY:3 этап Кубка России
DESCRIPTION:3 этап Кубка России\nСинхронное катание. МС\nГлавный судья: Кандыба С.П.\nЗам.гл.судьи: Безменов Е.А.
URL:https://fstatarstan.ru/event/3-etap-kubka-rossii/
LOCATION:Дворец спорта\, Казань\, Russian Federation
CATEGORIES:Соревнования
END:VEVENT
BEGIN:VEVENT
DTSTART;VALUE=DATE:20250131
DTEND;VALUE=DATE:20250203
DTSTAMP:20260419T202502
CREATED:20241224T120133Z
LAST-MODIFIED:20250205T185848Z
UID:5033-1738281600-1738540799@fstatarstan.ru
SUMMARY:Сююмбике
DESCRIPTION:Всероссийские соревнования  «Сююмбике»\nСинхронное катание. 1 сп.разряд — КМС\nГлавный судья: Кандыба С.П.\nЗам.гл.судьи: Безменов Е.А.\nРеспубликанские классификационные соревнования  «Сююмбике»\nСинхронное катание. 2 разряд\nГлавный судья: Безменов Е.А.\nЗам.гл.судьи: Гафарова К.Г.\n\n\n Онлайн-табло соревнований  \n Регламент проведения Республиканских классификацонных соревнований «Сююмбике» по фигурному катанию на коньках \n Протокол Республиканских Классификационных соревнований «Сююмбике» по фигурному катанию на коньках. Дисциплина — Синхронное катание (Юноши\, Девушки 10-15 лет) \n Протокол Всероссийских соревнований «Сююмбике» по фигурному катанию на коньках. Дисциплина — Синхронное катание \n Протокол III этапа Кубка России по фигурному катанию на коньках. Дисциплина — Синхронное катание \n\nФотографии\n\nКМС — Короткая программа\nМС — Короткая программа\nКМС — Произвольная программа\nМС — Произвольная программа\nЦеремония награждения
URL:https://fstatarstan.ru/event/vs-syuyumbike/
LOCATION:Дворец спорта\, Казань\, Russian Federation
CATEGORIES:Соревнования
ATTACH;FMTTYPE=image/jpeg:https://fstatarstan.ru/wp-content/uploads/2024/12/suumbike.jpg
END:VEVENT
BEGIN:VEVENT
DTSTART;VALUE=DATE:20250129
DTEND;VALUE=DATE:20250131
DTSTAMP:20260419T202502
CREATED:20241224T115604Z
LAST-MODIFIED:20250106T204208Z
UID:5029-1738108800-1738281599@fstatarstan.ru
SUMMARY:Кубок Ак Буре
DESCRIPTION:Точная дата проведения соревнований будет опубликована позже! \n\nРеспубликанские классификационные соревнования  «Кубок Ак Буре» (1 этап)\nОдиночное катание. 3 сп. разряд-КМС\nКлассификационные соревнования  «Кубок Ак Буре»\nОдиночное катание. 3 юн. разряд – 1 юн. разряд\nСоревнования  «Кубок Ак Буре»\nОдиночное катание.\nЮный фигурист\, Первые шаги\, Любители\n\n\nГлавный судья: Безменов Е.А.\nЗам.гл.судьи: Аминова А.Р.
URL:https://fstatarstan.ru/event/kubok-ak-bure/
LOCATION:ЛА «Ак Буре»\, Улица Рашида Вагапова\, 17\, Казань\, 420100\, Russian Federation
CATEGORIES:Соревнования
END:VEVENT
BEGIN:VEVENT
DTSTART;VALUE=DATE:20250124
DTEND;VALUE=DATE:20250127
DTSTAMP:20260419T202502
CREATED:20241224T115110Z
LAST-MODIFIED:20250206T141458Z
UID:5002-1737676800-1737935999@fstatarstan.ru
SUMMARY:Кубок Грации (1 этап)
DESCRIPTION:Республиканские классификационные соревнования  «Кубок Грации» (1 этап)\nОдиночное катание. 3 сп. разряд-КМС\nКлассификационные соревнования  «Кубок Грации»\nОдиночное катание. 3 юн. разряд – 1 юн. разряд\nСоревнования  «Кубок Грации»\nОдиночное катание.\nЮный фигурист\, Первые шаги\, Любители\n\n\nГлавный судья: Безменов Е.А.\nЗам.гл.судьи: Аминова А.Р.\n \n\n Регламент Республиканских классификационных соревнований по фигурному катанию на коньках «Кубок Грации» (1 этап). \n Регламент классификационных соревнований по фигурному катанию на коньках «Кубок Грации» (1 этап). \n Протокол Республиканских классификационных соревнований по фигурному катанию на коньках «Кубок Грации» (1 этап). \n Протокол Классификационных соревнований по фигурному катанию на коньках «Кубок Грации» (1 этап). \n\n			\n				\n			\n			\n				\n			\n			\n				\n			\n			\n				\n			\n				\n				Кубок Грации
URL:https://fstatarstan.ru/event/kubok-gratsii-1-etap/
LOCATION:ЛА «Ак Буре»\, Улица Рашида Вагапова\, 17\, Казань\, 420100\, Russian Federation
CATEGORIES:Соревнования
END:VEVENT
BEGIN:VEVENT
DTSTART;VALUE=DATE:20250117
DTEND;VALUE=DATE:20250120
DTSTAMP:20260419T202502
CREATED:20241224T111600Z
LAST-MODIFIED:20250106T204429Z
UID:4998-1737072000-1737331199@fstatarstan.ru
SUMMARY:Рождественские встречи
DESCRIPTION:Классификационные соревнования  «Рождественские встречи»\nОдиночное катание. 3 юн. разряд — 1 юн. разряд\nФестиваль  «Рождественские встречи»\nОдиночное катание.\nЮный фигурист\, Первые шаги\, Любители\n\nДанные соревнования пройдут в формате классификационного турнира\, без права присвоения разрядов. \n 
URL:https://fstatarstan.ru/event/sorevnovaniya-rozhdestvenskie-vstrechi/
LOCATION:ЛА «Юдино»\, Политехническая\, 3а Юдино м-н\, Кировский район\, Казань\, 420078\, Russian Federation
CATEGORIES:Соревнования
END:VEVENT
BEGIN:VEVENT
DTSTART;VALUE=DATE:20241225
DTEND;VALUE=DATE:20241227
DTSTAMP:20260419T202502
CREATED:20241020T201915Z
LAST-MODIFIED:20250107T114613Z
UID:4627-1735084800-1735257599@fstatarstan.ru
SUMMARY:КС «Кубок «Quadro» (2 этап)
DESCRIPTION:Классификационные соревнования «Кубок «Quadro» (2 этап) \nСтатус / Квалификация: Одиночное катание. Юношеские спорт. разряды \n\nГлавный судья: Безменов Е.А.\nЗам.гл.судьи: Трусова Р.В.\nОтветственный: Широков А.В. \n\n Регламент Классификационных соревнований по фигурному катанию на коньках «Кубок «Quadro» (2 этап) \n Протокол Классификационных соревнований по фигурному катанию на коньках «Кубок «Quadro» (2 этап)
URL:https://fstatarstan.ru/event/ks-kubok-quadro-2-etap/
LOCATION:ЛА «Зилант»\, ул. Хусаина Мавлютова\, 17В\, Казань\, Респ. Татарстан\, Россия\, 420101
CATEGORIES:Соревнования
END:VEVENT
BEGIN:VEVENT
DTSTART;VALUE=DATE:20241225
DTEND;VALUE=DATE:20241227
DTSTAMP:20260419T202502
CREATED:20241020T201809Z
LAST-MODIFIED:20250107T114529Z
UID:4623-1735084800-1735257599@fstatarstan.ru
SUMMARY:РКС «Кубок «Quadro» (2 этап)
DESCRIPTION:Республиканские классификационные соревнования «Кубок «Quadro» (2 этап) \nСтатус / Квалификация: Одиночное катание\, 3 спорт. разряд – КМС \n\nГлавный судья: Безменов Е.А.\nЗам.гл.судьи: Трусова Р.В.\nОтветственный: Широков А.В. \n\n Регламент Республиканских соревнований по фигурному катанию на коньках «Кубок «Quadro» (2 этап) \n Протокол Республиканских классификационных соревнований по фигурному катанию на коньках «Кубок «Quadro» (2 этап)
URL:https://fstatarstan.ru/event/rks-kubok-quadro-2-etap/
LOCATION:ЛА «Зилант»\, ул. Хусаина Мавлютова\, 17В\, Казань\, Респ. Татарстан\, Россия\, 420101
CATEGORIES:Соревнования
END:VEVENT
BEGIN:VEVENT
DTSTART;VALUE=DATE:20241221
DTEND;VALUE=DATE:20241223
DTSTAMP:20260419T202502
CREATED:20241020T201547Z
LAST-MODIFIED:20250106T203852Z
UID:4621-1734739200-1734911999@fstatarstan.ru
SUMMARY:КС «Кубок «Виража» (1этап)
DESCRIPTION:Классификационные соревнования «Кубок «Виража» (1этап) \nСтатус / Квалификация: Одиночное катание. Юношеские спорт. разряды \nГлавный судья: Безменов Е.А.\nЗам.гл.судьи: Трусова Р.В.\nОтветственный: Ахмедова Л.Р. \n\n Регламент Классификационных соревнований по фигурному катанию на коньках «Кубок Виража» (1 этап) 11-17 лет \n Регламент Классификационных соревнований по фигурному катанию на коньках «Кубок Виража» (1 этап) 9-12 лет \n Регламент Классификационных соревнований по фигурному катанию на коньках «Кубок Виража» (1 этап) 6-8 лет \n Протокол Классификационных соревнований по фигурному катанию на коньках “Кубок Виража” (1 этап) 11-17 лет \n Протокол Классификационных соревнований по фигурному катанию на коньках “Кубок Виража” (1 этап) 9-12 лет \n Протокол Классификационных соревнований по фигурному катанию на коньках “Кубок Виража” (1 этап) 6-8 лет
URL:https://fstatarstan.ru/event/ks-kubok-virazha-1etap/
LOCATION:ЛА «Юдино»\, Политехническая\, 3а Юдино м-н\, Кировский район\, Казань\, 420078\, Russian Federation
CATEGORIES:Соревнования
END:VEVENT
BEGIN:VEVENT
DTSTART;VALUE=DATE:20241221
DTEND;VALUE=DATE:20241223
DTSTAMP:20260419T202502
CREATED:20241020T201432Z
LAST-MODIFIED:20250106T203818Z
UID:4618-1734739200-1734911999@fstatarstan.ru
SUMMARY:РКС «Кубок «Виража» (1этап)
DESCRIPTION:Республиканские классификационные соревнования «Кубок «Виража» (1этап) \nСтатус / Квалификация: Одиночное катание. 3 спорт. разряд – КМС. \nГлавный судья: Безменов Е.А.\nЗам.гл.судьи: Трусова Р.В.\nОтветственный: Ахмедова Л.Р. \n\n Регламент Республиканских Классификационных соревнований по фигурному катанию на коньках «Кубок Виража» (1 этап) \n Протокол Республиканских классификационных соревнований по фигурному катанию на коньках «Кубок Вираж» (1 этап)
URL:https://fstatarstan.ru/event/rks-kubok-virazha-1etap/
LOCATION:ЛА «Юдино»\, Политехническая\, 3а Юдино м-н\, Кировский район\, Казань\, 420078\, Russian Federation
CATEGORIES:Соревнования
END:VEVENT
BEGIN:VEVENT
DTSTART;VALUE=DATE:20241214
DTEND;VALUE=DATE:20241216
DTSTAMP:20260419T202502
CREATED:20241020T201043Z
LAST-MODIFIED:20241224T113947Z
UID:4616-1734134400-1734307199@fstatarstan.ru
SUMMARY:КС «Зимние забавы»
DESCRIPTION:Классификационные соревнования  «Зимние забавы» \nСтатус / Квалификация: Одиночное катание. Юношеские спорт. разряды \nГлавный судья: Безменов Е.А.\nЗам.гл.судьи: Трусова Р.В. \n\n Регламент классификационных соревнований по фигруному катанию на коньках «Зимние забавы» \n Регламент классификационных соревнований по фигруному катанию на коньках «Зимние забавы» (без спортивного разряда) \n Протокол классификационных соревнований по фигурному катанию на коньках «Зимние забавы» \n Протокол классификационных соревнований по фигурному катанию на коньках «Зимние забавы». (мальчики\, девочки) \n\n \n \n \n  \n \n \n  \n 
URL:https://fstatarstan.ru/event/ks-zimnie-zabavy/
LOCATION:ЛА «Юдино»\, Политехническая\, 3а Юдино м-н\, Кировский район\, Казань\, 420078\, Russian Federation
CATEGORIES:Соревнования
END:VEVENT
END:VCALENDAR