BEGIN:VCALENDAR
VERSION:2.0
PRODID:-//Федерация фигурного катания на коньках Республики Татарстан - ECPv6.15.20//NONSGML v1.0//EN
CALSCALE:GREGORIAN
METHOD:PUBLISH
X-WR-CALNAME:Федерация фигурного катания на коньках Республики Татарстан
X-ORIGINAL-URL:https://fstatarstan.ru
X-WR-CALDESC:Мероприятия для Федерация фигурного катания на коньках Республики Татарстан
REFRESH-INTERVAL;VALUE=DURATION:PT1H
X-Robots-Tag:noindex
X-PUBLISHED-TTL:PT1H
BEGIN:VTIMEZONE
TZID:Europe/Moscow
BEGIN:STANDARD
TZOFFSETFROM:+0300
TZOFFSETTO:+0300
TZNAME:MSK
DTSTART:20230101T000000
END:STANDARD
END:VTIMEZONE
BEGIN:VEVENT
DTSTART;VALUE=DATE:20241221
DTEND;VALUE=DATE:20241223
DTSTAMP:20260419T222157
CREATED:20241020T201547Z
LAST-MODIFIED:20250106T203852Z
UID:4621-1734739200-1734911999@fstatarstan.ru
SUMMARY:КС «Кубок «Виража» (1этап)
DESCRIPTION:Классификационные соревнования «Кубок «Виража» (1этап) \nСтатус / Квалификация: Одиночное катание. Юношеские спорт. разряды \nГлавный судья: Безменов Е.А.\nЗам.гл.судьи: Трусова Р.В.\nОтветственный: Ахмедова Л.Р. \n\n Регламент Классификационных соревнований по фигурному катанию на коньках «Кубок Виража» (1 этап) 11-17 лет \n Регламент Классификационных соревнований по фигурному катанию на коньках «Кубок Виража» (1 этап) 9-12 лет \n Регламент Классификационных соревнований по фигурному катанию на коньках «Кубок Виража» (1 этап) 6-8 лет \n Протокол Классификационных соревнований по фигурному катанию на коньках “Кубок Виража” (1 этап) 11-17 лет \n Протокол Классификационных соревнований по фигурному катанию на коньках “Кубок Виража” (1 этап) 9-12 лет \n Протокол Классификационных соревнований по фигурному катанию на коньках “Кубок Виража” (1 этап) 6-8 лет
URL:https://fstatarstan.ru/event/ks-kubok-virazha-1etap/
LOCATION:ЛА «Юдино»\, Политехническая\, 3а Юдино м-н\, Кировский район\, Казань\, 420078\, Russian Federation
CATEGORIES:Соревнования
END:VEVENT
BEGIN:VEVENT
DTSTART;VALUE=DATE:20241221
DTEND;VALUE=DATE:20241223
DTSTAMP:20260419T222157
CREATED:20241020T201432Z
LAST-MODIFIED:20250106T203818Z
UID:4618-1734739200-1734911999@fstatarstan.ru
SUMMARY:РКС «Кубок «Виража» (1этап)
DESCRIPTION:Республиканские классификационные соревнования «Кубок «Виража» (1этап) \nСтатус / Квалификация: Одиночное катание. 3 спорт. разряд – КМС. \nГлавный судья: Безменов Е.А.\nЗам.гл.судьи: Трусова Р.В.\nОтветственный: Ахмедова Л.Р. \n\n Регламент Республиканских Классификационных соревнований по фигурному катанию на коньках «Кубок Виража» (1 этап) \n Протокол Республиканских классификационных соревнований по фигурному катанию на коньках «Кубок Вираж» (1 этап)
URL:https://fstatarstan.ru/event/rks-kubok-virazha-1etap/
LOCATION:ЛА «Юдино»\, Политехническая\, 3а Юдино м-н\, Кировский район\, Казань\, 420078\, Russian Federation
CATEGORIES:Соревнования
END:VEVENT
BEGIN:VEVENT
DTSTART;VALUE=DATE:20241214
DTEND;VALUE=DATE:20241216
DTSTAMP:20260419T222157
CREATED:20241020T201043Z
LAST-MODIFIED:20241224T113947Z
UID:4616-1734134400-1734307199@fstatarstan.ru
SUMMARY:КС «Зимние забавы»
DESCRIPTION:Классификационные соревнования  «Зимние забавы» \nСтатус / Квалификация: Одиночное катание. Юношеские спорт. разряды \nГлавный судья: Безменов Е.А.\nЗам.гл.судьи: Трусова Р.В. \n\n Регламент классификационных соревнований по фигруному катанию на коньках «Зимние забавы» \n Регламент классификационных соревнований по фигруному катанию на коньках «Зимние забавы» (без спортивного разряда) \n Протокол классификационных соревнований по фигурному катанию на коньках «Зимние забавы» \n Протокол классификационных соревнований по фигурному катанию на коньках «Зимние забавы». (мальчики\, девочки) \n\n \n \n \n  \n \n \n  \n 
URL:https://fstatarstan.ru/event/ks-zimnie-zabavy/
LOCATION:ЛА «Юдино»\, Политехническая\, 3а Юдино м-н\, Кировский район\, Казань\, 420078\, Russian Federation
CATEGORIES:Соревнования
END:VEVENT
BEGIN:VEVENT
DTSTART;VALUE=DATE:20241214
DTEND;VALUE=DATE:20241216
DTSTAMP:20260419T222157
CREATED:20241020T200926Z
LAST-MODIFIED:20241224T113601Z
UID:4613-1734134400-1734307199@fstatarstan.ru
SUMMARY:РКС  «Зимние забавы»
DESCRIPTION:Республиканские классификационные соревнования  «Зимние забавы» \nСтатус / Квалификация: Одиночное катание. 3 спорт. разряд – КМС \nГлавный судья: Безменов Е.А.\nЗам.гл.судьи: Трусова Р.В. \n Регламент Республиканских классификационных соревнований по фигруному катанию на коньках «Зимние забавы» \n Протокол Республиканских классификационных соревнований по фигурному катанию на коньках «Зимние забавы» \n 
URL:https://fstatarstan.ru/event/rks-zimnie-zabavy/
LOCATION:ЛА «Юдино»\, Политехническая\, 3а Юдино м-н\, Кировский район\, Казань\, 420078\, Russian Federation
CATEGORIES:Соревнования
END:VEVENT
BEGIN:VEVENT
DTSTART;VALUE=DATE:20241213
DTEND;VALUE=DATE:20241216
DTSTAMP:20260419T222157
CREATED:20241020T144739Z
LAST-MODIFIED:20241230T193409Z
UID:4608-1734048000-1734307199@fstatarstan.ru
SUMMARY:КС «Кубок Нефтяника» (1 этап)
DESCRIPTION:Классификационные соревнования «Кубок Нефтяника» (1 этап) \nСтатус / Квалификация: Одиночное катание. Юношеские спорт. разряды \n\nГлавный судья соревнований: Шестернин Б.В.\nЗам. главного судьи: Антропова Е.В.\nГлавный секретарь: Упорова Е.В. \n\n Регламент классификационных соревнований «Кубок Няфтяника» по фигурному катанию на коньках (1 этап) \nИнформационое письмо \n Протокол  классификационных соревнований «Кубок Няфтяника» (1 этап)
URL:https://fstatarstan.ru/event/ks-kubok-neftyanika-1-etap/
LOCATION:ЛД «Спутник»\, Альметьевск\, Russian Federation
CATEGORIES:Соревнования
END:VEVENT
BEGIN:VEVENT
DTSTART;VALUE=DATE:20241213
DTEND;VALUE=DATE:20241216
DTSTAMP:20260419T222157
CREATED:20241020T144625Z
LAST-MODIFIED:20241230T193343Z
UID:4604-1734048000-1734307199@fstatarstan.ru
SUMMARY:РКС «Кубок Нефтяника» (1 этап)
DESCRIPTION:Республиканские классификационные соревнования «Кубок Нефтяника» (1 этап) \nСтатус / Квалификация: Одиночное катание. 3 спорт. разряд – КМС \n\nГлавный судья соревнований: Шестернин Б.В.\nЗам. главного судьи: Антропова Е.В.\nГлавный секретарь: Упорова Е.В. \n\n Регламент Республиканских классификационных соревнований «Кубок Няфтяника» по фигурному катанию на коньках (1 этап) \nИнформационое письмо \n Протокол Республиканских классификационных соревнований «Кубок Няфтяника» (1 этап)
URL:https://fstatarstan.ru/event/rks-kubok-neftyanika-1-etap/
LOCATION:ЛД «Спутник»\, Альметьевск\, Russian Federation
CATEGORIES:Соревнования
END:VEVENT
BEGIN:VEVENT
DTSTART;VALUE=DATE:20241207
DTEND;VALUE=DATE:20241209
DTSTAMP:20260419T222157
CREATED:20241020T143703Z
LAST-MODIFIED:20241214T214056Z
UID:4602-1733529600-1733702399@fstatarstan.ru
SUMMARY:КС на призы Евгении Тарасовой
DESCRIPTION:Классификационные соревнования на призы двукратного серебряного призера Олимпийских Игр Евгении Тарасовой \nСтатус / Квалификация: Одиночное катание\, 3 спорт. разряд – МС \nГлавный судья: Безменов Е.А.\nЗам.гл.судьи:  Аминова А.Р. \n\n Регламент классификационных соревнований на призы двухкратного серебряного призёра Олимпийских игр Евгении Тарасовой по фигурному катанию на коньках \n Информационное письмо (требования к участникам и условия допуска) \nCоревнования на призы Евгении Тарасовой. Онлайн-табо. \n Протокол Классификационных соревнований на призы двухкратного серебрянго призера Олимпийских игр Евгении Тарасовой по фигурному катанию на коньках
URL:https://fstatarstan.ru/event/ks-na-prizy-evgenii-tarasovoj/
LOCATION:Дворец спорта\, Казань\, Russian Federation
CATEGORIES:Соревнования
END:VEVENT
BEGIN:VEVENT
DTSTART;VALUE=DATE:20241207
DTEND;VALUE=DATE:20241209
DTSTAMP:20260419T222157
CREATED:20241020T143536Z
LAST-MODIFIED:20241214T214026Z
UID:4600-1733529600-1733702399@fstatarstan.ru
SUMMARY:РКС на призы Евгении Тарасовой
DESCRIPTION:Республиканские классификационные соревнования на   призы  двукратного серебряного призера Олимпийских Игр Евгении Тарасовой \nСтатус / Квалификация: Одиночное катание\, 3 спорт. разряд – МС \nГлавный судья: Безменов Е.А.\nЗам.гл.судьи:  Аминова А.Р. \n\n Регламент Республиканских классификационных соревнований на призы двухкратного серебряного призёра Олимпийских игр Евгении Тарасовой по фигурному катанию на коньках \n Информационное письмо (требования к участникам и условия допуска) \nCоревнования на призы Евгении Тарасовой. Онлайн-табо. \n Протокол Республиканских Классификационных соревнований на призы двухкратного серебрянго призера Олимпийских игр Евгении Тарасовой по фигурному катанию на коньках
URL:https://fstatarstan.ru/event/rks-na-prizy-evgenii-tarasovoj/
LOCATION:Дворец спорта\, Казань\, Russian Federation
CATEGORIES:Соревнования
END:VEVENT
BEGIN:VEVENT
DTSTART;VALUE=DATE:20241204
DTEND;VALUE=DATE:20241206
DTSTAMP:20260419T222157
CREATED:20241020T143320Z
LAST-MODIFIED:20241212T091443Z
UID:4597-1733270400-1733443199@fstatarstan.ru
SUMMARY:Чемпионат и первенство Республики Татарстан
DESCRIPTION:Чемпионат и первенство Республики Татарстан \nСтатус / Квалификация: Одиночное катание. 3 спортивный разряд – МС; синхр.катание 2 сп.разряд-МС \nГлавный судья: Безменов Е.А.\nЗам.гл.судьи:  Аминова А.Р. \n\n Регламент Чемпионата и Первенства Республкики Татарстан по фигруному катанию на коньках \n Чемпионат и Первенств Республики Татарстан (одиночное катание). Онлайн-табло \n  Чемпионат и Первенств Республики Татарстан (синхронное катание). Онлайн-табло \n Протокол соревнований Чемпионат и Первенство Республики Татарстан по фигурному катанию на коньках \n\n\n			\n				\n			\n				\n				КМС\, синхронное катание\n				\n			\n				\n			\n				\n				2 спортивный разряд\, мальчики\n				\n			\n				\n			\n				\n				Команда по синхронному катанию на коньках «Татарстан»\n				\n			\n				\n			\n				\n				3 спортивный разряд\, девочки\n				\n			\n				\n			\n				\n				1 спортивный разряд\, девушки\n				\n			\n				\n			\n				\n				1 спортивный разряд\, синхронное катание\n				\n			\n				\n			\n				\n				КМС\, девушки\n				\n			\n				\n			\n				\n				2 спортивный разряд\, синхронное катание\n				\n			\n				\n			\n				\n				2 спортивный разряд\, девочки
URL:https://fstatarstan.ru/event/chempionat-i-pervenstvo-respubliki-tatarstan/
LOCATION:Дворец спорта\, Казань\, Russian Federation
CATEGORIES:Соревнования
END:VEVENT
BEGIN:VEVENT
DTSTART;VALUE=DATE:20241130
DTEND;VALUE=DATE:20241202
DTSTAMP:20260419T222157
CREATED:20241020T143049Z
LAST-MODIFIED:20241210T192208Z
UID:4595-1732924800-1733097599@fstatarstan.ru
SUMMARY:КС “Кубок “Биектау”  (1 этап)
DESCRIPTION:Классификационные соревнования “Кубок “Биектау”  (1 этап) \nСтатус / Квалификация: Одиночное катание. Юношеские спорт. разряды \nГлавный судья: Безменов Е.А.\nЗам.гл.судьи:  Аминова А.Р.\nОтветственный:  Евстигнеева Д.О. \n Классификационных соревнований «Кубок Биектау» по фигурному катанию на коньках (1 этап) \n Протокол классификационных соревнований «Кубок Биектау» по фигурному катанию на коньках (1 этап)
URL:https://fstatarstan.ru/event/ks-kubok-biektau-1-etap/
LOCATION:ЛД «Биектау»\, Высокая Гора\, Russian Federation
CATEGORIES:Соревнования
END:VEVENT
BEGIN:VEVENT
DTSTART;VALUE=DATE:20241130
DTEND;VALUE=DATE:20241202
DTSTAMP:20260419T222157
CREATED:20241020T142930Z
LAST-MODIFIED:20241210T192159Z
UID:4591-1732924800-1733097599@fstatarstan.ru
SUMMARY:РКС “Кубок “Биектау”  (1 этап)
DESCRIPTION:Республиканские  классификационные соревнования “Кубок “Биектау”  (1 этап) \nСтатус / Квалификация: Одиночное катание. 3 спорт. разряд – МС. \nГлавный судья: Безменов Е.А.\nЗам.гл.судьи:  Аминова А.Р.\nОтветственный:  Евстигнеева Д.О. \n Республиканских классификационных соревнований «Кубок Биектау» по фигурному катанию на коньках (1 этап) \n Протокол Республиканских классификационных соревнований «Кубок Биектау» по фигурному катанию на коньках (1 этап) \n 
URL:https://fstatarstan.ru/event/rks-kubok-biektau-1-etap/
LOCATION:ЛД «Биектау»\, Высокая Гора\, Russian Federation
CATEGORIES:Соревнования
END:VEVENT
BEGIN:VEVENT
DTSTART;VALUE=DATE:20241126
DTEND;VALUE=DATE:20241128
DTSTAMP:20260419T222158
CREATED:20241020T142536Z
LAST-MODIFIED:20241203T091844Z
UID:4589-1732579200-1732751999@fstatarstan.ru
SUMMARY:КС «Кубок Стрелы» (1 этап) памяти ЗРФК РТ В.Н.Павлова
DESCRIPTION:Классификационные соревнования «Кубок Стрелы» (1 этап) памяти ЗРФК РТ В.Н.Павлова \nСтатус / Квалификация: Одиночное катание. Юношеские спорт. разряды \nГлавный судья: Шамонин Д.А.\nЗам.гл.судьи: Аминова А.Р.\nГлавный секретарь: Чухонцева А.А. \n Регламент классификационных соревнований «Кубок Стрелы» памяти В.Н.Павлова по фигурному катанию на коньках (1 этап) \n Протокол классификационных соревнований «Кубок Стрелы» памяти В.Н.Павлова по фигурному катанию на коньках (1 этап).
URL:https://fstatarstan.ru/event/ks-kubok-strely-1-etap-pamyati-zrfk-rt-v-n-pavlova/
LOCATION:ЛА «Баско»\, Казань\, Russian Federation
CATEGORIES:Соревнования
END:VEVENT
BEGIN:VEVENT
DTSTART;VALUE=DATE:20241126
DTEND;VALUE=DATE:20241128
DTSTAMP:20260419T222158
CREATED:20241020T142349Z
LAST-MODIFIED:20241203T091838Z
UID:4585-1732579200-1732751999@fstatarstan.ru
SUMMARY:РКС «Кубок Стрелы» (1 этап) памяти ЗРФК РТ В.Н.Павлова
DESCRIPTION:Республиканские классификационные соревнования «Кубок Стрелы» (1 этап) памяти ЗРФК РТ В.Н.Павлова \nСтатус / Квалификация: Одиночное катание. 3 спорт. разряд – МС \nГлавный судья: Шамонин Д.А.\nЗам.гл.судьи: Аминова А.Р.\nГлавный секретарь: Чухонцева А.А. \n Регламент Республиканских классификационных соревнований «Кубок Стрелы» памяти В.Н.Павлова по фигурному катанию на коньках (1 этап) \n Протокол Республиканских классификационных соревнований «Кубок Стрелы» памяти В.Н.Павлова по фигурному катанию на коньках (1 этап). \n 
URL:https://fstatarstan.ru/event/rks-kubok-strely-1-etap-pamyati-zrfk-rt-v-n-pavlova/
LOCATION:ЛА «Баско»\, Казань\, Russian Federation
CATEGORIES:Соревнования
END:VEVENT
BEGIN:VEVENT
DTSTART;VALUE=DATE:20241123
DTEND;VALUE=DATE:20241125
DTSTAMP:20260419T222158
CREATED:20241020T141348Z
LAST-MODIFIED:20241129T140639Z
UID:4575-1732320000-1732492799@fstatarstan.ru
SUMMARY:КС «Кубок Ледокол» (2 этап)
DESCRIPTION:Классификационные соревнования «Кубок Ледокол» (2 этап) \nСтатус / Квалификация: Одиночное катание. Юношеские спортивные разряды \nГлавный судья: Аминова А.Р. \nЗам.гл.судьи: Гафарова К.Г.\nОтветственный: Измайлов И.Г. \nРегламент Классификационных соревнований «Кубок Ледокола» по фигурному катанию на коньках \n Регламент Фестиваля «Кубок Ледокола» по фигурному катанию на коньках \n Протокол классификационных соревнований «Кубок Ледокола» по фигурному катанию на коньках \nОнлайн-табло
URL:https://fstatarstan.ru/event/klassifikatsionnye-sorevnovaniya-kubok-ledokol-2-etap/
LOCATION:ЛД «Ледокол» ЗМР РТ\, Казань\, Russian Federation
CATEGORIES:Соревнования
END:VEVENT
BEGIN:VEVENT
DTSTART;VALUE=DATE:20241123
DTEND;VALUE=DATE:20241125
DTSTAMP:20260419T222158
CREATED:20241020T141157Z
LAST-MODIFIED:20241129T140648Z
UID:4571-1732320000-1732492799@fstatarstan.ru
SUMMARY:РКС «Кубок Ледокол» (2 этап)
DESCRIPTION:Республиканские классификационные соревнования «Кубок Ледокол» (2 этап) \nСтатус / Квалификация: Одиночное катание на коньках 3 спорт. разряд – КМС \nГлавный судья: Аминова А.Р. \nЗам.гл.судьи: Гафарова К.Г.\nОтветственный: Фалина Д.М. \nРегламент Республиканских классификационных соревнований «Кубок Ледокола» по фигурному катанию на коньках \n Протокол Республиканских классификационных соревнований «Кубок Ледокола» по фигурному катанию на коньках \nОнлайн-табло \n 
URL:https://fstatarstan.ru/event/respublikanskie-klassifikatsionnye-sorevnovaniya-kubok-ledokol-2-etap/
LOCATION:ЛД «Ледокол» ЗМР РТ\, Казань\, Russian Federation
CATEGORIES:Соревнования
END:VEVENT
BEGIN:VEVENT
DTSTART;VALUE=DATE:20241115
DTEND;VALUE=DATE:20241118
DTSTAMP:20260419T222158
CREATED:20241020T140920Z
LAST-MODIFIED:20250109T135132Z
UID:4569-1731628800-1731887999@fstatarstan.ru
SUMMARY:КС “Кубок «Акселя» (1 этап)
DESCRIPTION:Классификационные соревнования “Кубок «Акселя» (1 этап) \nСтатус / Квалификация: Одиночное катание. Юношеские спорт. разряды \nГлавный судья: Аминова А.Р.\nЗам.гл.судьи: Гафарова К.Г.\nОтветственный: Чухонцева А.А. \nРегламент Классификационных соревнований “Кубок «Акселя» (1 этап) \n Регламент соревнований “Кубок «Акселя» (1 этап) \n Онлайн-табло \n Протокол классификационных соревнований «Кубок Акселя» по фигурному катанию на коньках (1 этап)
URL:https://fstatarstan.ru/event/klassifikatsionnye-sorevnovaniya-kubok-akselya-1-etap/
LOCATION:ЛА «Юдино»\, Политехническая\, 3а Юдино м-н\, Кировский район\, Казань\, 420078\, Russian Federation
CATEGORIES:Соревнования
END:VEVENT
BEGIN:VEVENT
DTSTART;VALUE=DATE:20241115
DTEND;VALUE=DATE:20241118
DTSTAMP:20260419T222158
CREATED:20241020T140818Z
LAST-MODIFIED:20250109T135102Z
UID:4565-1731628800-1731887999@fstatarstan.ru
SUMMARY:РКС “Кубок «Акселя» (1 этап)
DESCRIPTION:Республиканские классификационные соревнования “Кубок «Акселя» (1 этап) \nСтатус / Квалификация: Одиночное катание. 3 сп. разряд – МС \nГлавный судья: Аминова А.Р.\nЗам.гл.судьи: Гафарова К.Г.\nОтветственный: Чухонцева А.А. \n Регламент Республиканских классификационных соревнований “Кубок «Акселя» (1 этап) \n Протокол Республиканских классификационных соревнований «Кубок Акселя» по фигурному катанию на коньках (1 этап) \n  \n 
URL:https://fstatarstan.ru/event/respublikanskie-klassifikatsionnye-sorevnovaniya-kubok-akselya-1-etap/
LOCATION:ЛА «Юдино»\, Политехническая\, 3а Юдино м-н\, Кировский район\, Казань\, 420078\, Russian Federation
CATEGORIES:Соревнования
END:VEVENT
BEGIN:VEVENT
DTSTART;VALUE=DATE:20241113
DTEND;VALUE=DATE:20241115
DTSTAMP:20260419T222158
CREATED:20241020T140518Z
LAST-MODIFIED:20241121T010209Z
UID:4562-1731456000-1731628799@fstatarstan.ru
SUMMARY:КС «Кубок «Авиатора» (1 этап)
DESCRIPTION:Классификационные соревнования «Кубок «Авиатора» (1 этап) \nСтатус / Квалификация: Одиночное катание. Юношеские спорт. разряды \nГлавный судья: Трусова Р.В.\nЗам.гл.судьи: Аминова А.Р.\nОтветственный: Судиярова Т.В. \n Регламент Классификационных соревнований «Кубок Авиатора» по фигурному катанию на коньках \n Протокол классификационных соревнований «Кубок Авиатора» по фигурному катанию на коньках \n 
URL:https://fstatarstan.ru/event/klassifikatsionnye-sorevnovaniya-kubok-aviatora-1-etap/
LOCATION:СК «Триумф»\, Казань\, Russian Federation
CATEGORIES:Соревнования
END:VEVENT
BEGIN:VEVENT
DTSTART;VALUE=DATE:20241113
DTEND;VALUE=DATE:20241115
DTSTAMP:20260419T222158
CREATED:20241020T140355Z
LAST-MODIFIED:20241121T005950Z
UID:4558-1731456000-1731628799@fstatarstan.ru
SUMMARY:РКС «Кубок «Авиатора» (1 этап)
DESCRIPTION:Республиканские классификационные соревнования «Кубок «Авиатора» (1 этап) \nСтатус / Квалификация: Одиночное катание\, синхронное катание. 3 спорт. разряд – МС \nГлавный судья: Трусова Р.В.\nЗам.гл.судьи: Аминова А.Р.\nОтветственный: Судиярова Т.В. \nРегламент Республиканских классификационных соревнований «Кубок Авиатора» по фигурному катанию на коньках \n Протокол Республиканских классификационных соревнований «Кубок Авиатора» по фигурному катанию на коньках \n  \n 
URL:https://fstatarstan.ru/event/respublikanskie-klassifikatsionnye-sorevnovaniya-kubok-aviatora-1-etap/
LOCATION:СК «Триумф»\, Казань\, Russian Federation
CATEGORIES:Соревнования
END:VEVENT
BEGIN:VEVENT
DTSTART;VALUE=DATE:20241101
DTEND;VALUE=DATE:20241104
DTSTAMP:20260419T222158
CREATED:20241020T132300Z
LAST-MODIFIED:20241103T202751Z
UID:4556-1730419200-1730678399@fstatarstan.ru
SUMMARY:Этап Ростелеком Гран При России «Идель 2024»
DESCRIPTION:Всероссийские соревнования «Ростелеком Гран При России — Идель-2024» \n\n\n\n\nСроки проведения: 01 — 03 ноября 2024 года \nМесто проведения: г. Казань\, Дворец спорта \nАдрес места проведения: г. Казань\, ул. Московская\, д. 1 \nРазмер площадки: 28 х 60 м \nРазряды: МС \nВиды: одиночное и парное катание\n\n\n\nРезультаты соревнований  \nИнформация о соревнованиях на сайте Федерации фигурного катания на коньках России \nВыступление сильнейших женщин на Гран-при России в Казани (1-6 места) \n \nВыступление женщин на Гран-при России в Казани (7-12 места) \n \nОпределились победители у мужчин на Гран-при России в Казани \n \nПарники завершили II этап Гран-при России в Казани
URL:https://fstatarstan.ru/event/etap-rostelekom-gran-pri-rossii-idel-2024/
CATEGORIES:Соревнования
ATTACH;FMTTYPE=image/jpeg:https://fstatarstan.ru/wp-content/uploads/2024/10/afisha-granpri2024-1.jpg
END:VEVENT
BEGIN:VEVENT
DTSTART;VALUE=DATE:20241030
DTEND;VALUE=DATE:20241102
DTSTAMP:20260419T222203
CREATED:20241020T131619Z
LAST-MODIFIED:20241103T083449Z
UID:4546-1730246400-1730505599@fstatarstan.ru
SUMMARY:ВС “Идель 2024” памяти ЗТР Г.С.Тарасова
DESCRIPTION:Всероссийские соревнования «Идель-2024 памяти ЗТР Г.С. Тарасова» среди юниоров \nСроки проведения: 30 октября — 01 ноября 2024 года \nМесто проведения: г. Казань\, Дворец спорта \nАдрес места проведения: г. Казань\, ул. Московская\, д. 1 \nРазмер площадки: 28 х 60 м \nРазряды: КМС \nВиды: одиночное и парное катание\, танцы на льду \n\nОнлайн-табло соревнований \nРасписание соревнований \nИнформация о соревнованиях на сайте Федерации фигурного катания на коньках России \nГлавный судья: Безменов Е.А. \n\nПресса \n\nВ Казани проходят соревнования по фигурному катанию на коньках «Идель-2024»\nФотографии с выступления пар
URL:https://fstatarstan.ru/event/vserossijskie-sorevnovaniya-idel-2024-pamyati-ztr-g-s-tarasova/
LOCATION:Дворец спорта\, Казань\, Russian Federation
CATEGORIES:Соревнования
ATTACH;FMTTYPE=image/jpeg:https://fstatarstan.ru/wp-content/uploads/2024/10/afisha-idel2024.jpg
END:VEVENT
BEGIN:VEVENT
DTSTART;VALUE=DATE:20241005
DTEND;VALUE=DATE:20241007
DTSTAMP:20260419T222203
CREATED:20241028T070808Z
LAST-MODIFIED:20241028T105701Z
UID:4658-1728086400-1728259199@fstatarstan.ru
SUMMARY:Соревнования «Галактика» (1 этап)
DESCRIPTION:Республиканские классификационные соревнования  «Галактика» (1 этап) \nКлассификационные соревнования  «Галактика» (1 этап) \nСоревнования  «Галактика» (1 этап) \n\nМесто проведения соревнований: Республика Татарстан\, г.Казань\, ул.О.Кошевого\, д.17\, ледовая арена “Триумф”. \n\nДокументы\n Регламент Республиканских классификационных соревнований по фигурному катанию на коньках «Галактика» (1 этап). \n Регламент Классификационных соревнований по фигурному катанию на коньках «Галактика» (1 этап). \n Регламент о проведении соревнований по фигурному катанию на коньках «Галактика» (1 этап). \n Протокол Республиканских классификационных соревнований «Галактика» (1 этап). \n Протокол классификационных соревнований «Галактика» (1 этап). \n Протокол соревнований «Галактика» (1 этап) \n 
URL:https://fstatarstan.ru/event/sorevnovaniya-galaktika-1-etap/
LOCATION:СК «Триумф»\, Казань\, Russian Federation
CATEGORIES:Соревнования
ATTACH;FMTTYPE=image/jpeg:https://fstatarstan.ru/wp-content/uploads/2024/10/20241005-1.jpg
END:VEVENT
END:VCALENDAR