BEGIN:VCALENDAR
VERSION:2.0
PRODID:-//Федерация фигурного катания на коньках Республики Татарстан - ECPv6.15.20//NONSGML v1.0//EN
CALSCALE:GREGORIAN
METHOD:PUBLISH
X-WR-CALNAME:Федерация фигурного катания на коньках Республики Татарстан
X-ORIGINAL-URL:https://fstatarstan.ru
X-WR-CALDESC:Мероприятия для Федерация фигурного катания на коньках Республики Татарстан
REFRESH-INTERVAL;VALUE=DURATION:PT1H
X-Robots-Tag:noindex
X-PUBLISHED-TTL:PT1H
BEGIN:VTIMEZONE
TZID:Europe/Moscow
BEGIN:STANDARD
TZOFFSETFROM:+0300
TZOFFSETTO:+0300
TZNAME:MSK
DTSTART:20240101T000000
END:STANDARD
END:VTIMEZONE
BEGIN:VEVENT
DTSTART;VALUE=DATE:20251101
DTEND;VALUE=DATE:20251103
DTSTAMP:20260419T161647
CREATED:20250831T194750Z
LAST-MODIFIED:20251204T185217Z
UID:5743-1761955200-1762127999@fstatarstan.ru
SUMMARY:Кубок Юного Чемпиона
DESCRIPTION:Республиканские классификационные соревнования  «Кубок «Юного Чемпиона»\nОдиночное катание. 3 спортивный разряд — КМС\nКлассификационные соревнования «Кубок «Юного Чемпиона»\nОдиночное катание. 3 юн.разряд — 1 юн.разряд\n\n\nГлавный судья: Безменов Е.А.\nЗам.гл.судьи: Гафарова К.Г. \n\n Онлайн-табло соревнований \n\n Протокол Республиканских классификационных соревнований  «Кубок «Юного Чемпиона» \n Протокол классификационных соревнований  «Кубок «Юного Чемпиона»
URL:https://fstatarstan.ru/event/kubok-yunogo-chempiona/
LOCATION:ЛА «Юдино»\, Политехническая\, 3а Юдино м-н\, Кировский район\, Казань\, 420078\, Russian Federation
CATEGORIES:Соревнования
END:VEVENT
BEGIN:VEVENT
DTSTART;VALUE=DATE:20251105
DTEND;VALUE=DATE:20251111
DTSTAMP:20260419T161647
CREATED:20250831T194556Z
LAST-MODIFIED:20251003T101211Z
UID:5740-1762300800-1762819199@fstatarstan.ru
SUMMARY:Ростелеком Гран При России - Идель-2025
DESCRIPTION:Всероссийские соревнования «Идель-2025 памяти ЗТР Г.С.Тарасова»\nОдиночное катание\, парное катание\, танцы на льду — КМС\n5-7 ноября 2025 г.\nВсероссийские соревнования  «Ростелеком Гран При России — Идель 2025»\nОдиночное катание\, парное катание\, танцы на льду — ИМ\n7-10 ноября 2025 г.\n\n\nГлавный судья: Безменов Е.А.
URL:https://fstatarstan.ru/event/rostelekom-gran-pri-rossii-idel-2025/
LOCATION:Дворец спорта\, Казань\, Russian Federation
CATEGORIES:Соревнования
END:VEVENT
BEGIN:VEVENT
DTSTART;VALUE=DATE:20251114
DTEND;VALUE=DATE:20251117
DTSTAMP:20260419T161647
CREATED:20250831T195330Z
LAST-MODIFIED:20251203T185515Z
UID:5747-1763078400-1763337599@fstatarstan.ru
SUMMARY:Кубок Акселя (1 этап)
DESCRIPTION:Республиканские классификационные соревнования  «Кубок Акселя» (1 этап)\nОдиночное катание. 3 спортивный разряд — МС\nКлассификационные соревнования «Кубок Акселя» (1 этап)\nОдиночное катание. 3 юн.разряд — 1 юн.разряд\n\n\nГлавный судья: Безменов Е.А.\nЗам.гл.судьи: Аминова А.Р. \n\n Регламент Республиканских классификационных соревнований  «Кубок Акселя» (1 этап) по фигурному катанию на коньках \n Регламент классификационных соревнований  «Кубок Акселя» (1 этап) по фигурному катанию на коньках \n Протокол Республиканских классификационных соревнований  «Кубок Акселя» (1 этап) по фигурному катанию на коньках \n Протокол классификационных соревнований  «Кубок Акселя» (1 этап) по фигурному катанию на коньках
URL:https://fstatarstan.ru/event/kubok-akselya-1-etap/
LOCATION:ЛА «Юдино»\, Политехническая\, 3а Юдино м-н\, Кировский район\, Казань\, 420078\, Russian Federation
CATEGORIES:Соревнования
END:VEVENT
BEGIN:VEVENT
DTSTART;VALUE=DATE:20251122
DTEND;VALUE=DATE:20251124
DTSTAMP:20260419T161647
CREATED:20250831T195540Z
LAST-MODIFIED:20251202T172400Z
UID:5749-1763769600-1763942399@fstatarstan.ru
SUMMARY:Снежность - 2025 (2 этап)
DESCRIPTION:Республиканские классификационные соревнования  «Снежность — 2025» (2 этап)\nОдиночное катание. 3 спортивный разряд — КМС\nКлассификационные соревнования«Снежность — 2025» (2 этап)\nОдиночное катание. 3 юн.разряд — 1 юн.разряд\n\n\nГлавный судья: Аминова А.Р.\nЗам.гл.судьи: Трусова Р.В. \n\n Регламент Республиканских классификационных соревнований «Снежность-2025» по фигурному катанию на коньках \n Регламент классификационных соревнований «Снежность-2025» по фигурному катанию на коньках \n\n Онлайн-табло соревнований \n\n Протокол Республиканских классификационных соревнований «Снежность-2025» по фигурному катанию на коньках \n Протокол классификационных соревнований «Снежность-2025» по фигурному катанию на коньках
URL:https://fstatarstan.ru/event/snezhnost-2025-2-etap/
LOCATION:ЛД «Олимп»\, Russian Federation
CATEGORIES:Соревнования
END:VEVENT
BEGIN:VEVENT
DTSTART;VALUE=DATE:20251129
DTEND;VALUE=DATE:20251201
DTSTAMP:20260419T161647
CREATED:20250831T195936Z
LAST-MODIFIED:20251208T074204Z
UID:5751-1764374400-1764547199@fstatarstan.ru
SUMMARY:Кубок Биектау (1 этап)
DESCRIPTION:Республиканские классификационные соревнования  «Кубок Биектау» (1 этап)\nОдиночное катание. 3 спортивный разряд — МС\n(возможно Синхронное катание)\nКлассификационные соревнования «Кубок Биектау» (1 этап)\nОдиночное катание. 3 юн.разряд — 1 юн.разряд\n\n\nГлавный судья: Безменов Е.А.\nЗам.гл.судьи: Аминова А.Р. \n\n Онлайн-табло \n\n Протокол Республиканских классификационных соревнований  «Кубок Биектау» (1 этап) \n Протокол классификационных соревнований  «Кубок Биектау» (1 этап)
URL:https://fstatarstan.ru/event/kubok-biektau-1-etap/
LOCATION:ЛД «Биектау»\, Высокая Гора\, Russian Federation
CATEGORIES:Соревнования
END:VEVENT
END:VCALENDAR