BEGIN:VCALENDAR
VERSION:2.0
PRODID:-//Федерация фигурного катания на коньках Республики Татарстан - ECPv6.15.20//NONSGML v1.0//EN
CALSCALE:GREGORIAN
METHOD:PUBLISH
X-WR-CALNAME:Федерация фигурного катания на коньках Республики Татарстан
X-ORIGINAL-URL:https://fstatarstan.ru
X-WR-CALDESC:Мероприятия для Федерация фигурного катания на коньках Республики Татарстан
REFRESH-INTERVAL;VALUE=DURATION:PT1H
X-Robots-Tag:noindex
X-PUBLISHED-TTL:PT1H
BEGIN:VTIMEZONE
TZID:Europe/Moscow
BEGIN:STANDARD
TZOFFSETFROM:+0300
TZOFFSETTO:+0300
TZNAME:MSK
DTSTART:20240101T000000
END:STANDARD
END:VTIMEZONE
BEGIN:VEVENT
DTSTART;VALUE=DATE:20250117
DTEND;VALUE=DATE:20250120
DTSTAMP:20260422T141646
CREATED:20241224T111600Z
LAST-MODIFIED:20250106T204429Z
UID:4998-1737072000-1737331199@fstatarstan.ru
SUMMARY:Рождественские встречи
DESCRIPTION:Классификационные соревнования  «Рождественские встречи»\nОдиночное катание. 3 юн. разряд — 1 юн. разряд\nФестиваль  «Рождественские встречи»\nОдиночное катание.\nЮный фигурист\, Первые шаги\, Любители\n\nДанные соревнования пройдут в формате классификационного турнира\, без права присвоения разрядов. \n 
URL:https://fstatarstan.ru/event/sorevnovaniya-rozhdestvenskie-vstrechi/
LOCATION:ЛА «Юдино»\, Политехническая\, 3а Юдино м-н\, Кировский район\, Казань\, 420078\, Russian Federation
CATEGORIES:Соревнования
END:VEVENT
BEGIN:VEVENT
DTSTART;VALUE=DATE:20250124
DTEND;VALUE=DATE:20250127
DTSTAMP:20260422T141646
CREATED:20241224T115110Z
LAST-MODIFIED:20250206T141458Z
UID:5002-1737676800-1737935999@fstatarstan.ru
SUMMARY:Кубок Грации (1 этап)
DESCRIPTION:Республиканские классификационные соревнования  «Кубок Грации» (1 этап)\nОдиночное катание. 3 сп. разряд-КМС\nКлассификационные соревнования  «Кубок Грации»\nОдиночное катание. 3 юн. разряд – 1 юн. разряд\nСоревнования  «Кубок Грации»\nОдиночное катание.\nЮный фигурист\, Первые шаги\, Любители\n\n\nГлавный судья: Безменов Е.А.\nЗам.гл.судьи: Аминова А.Р.\n \n\n Регламент Республиканских классификационных соревнований по фигурному катанию на коньках «Кубок Грации» (1 этап). \n Регламент классификационных соревнований по фигурному катанию на коньках «Кубок Грации» (1 этап). \n Протокол Республиканских классификационных соревнований по фигурному катанию на коньках «Кубок Грации» (1 этап). \n Протокол Классификационных соревнований по фигурному катанию на коньках «Кубок Грации» (1 этап). \n\n			\n				\n			\n			\n				\n			\n			\n				\n			\n			\n				\n			\n				\n				Кубок Грации
URL:https://fstatarstan.ru/event/kubok-gratsii-1-etap/
LOCATION:ЛА «Ак Буре»\, Улица Рашида Вагапова\, 17\, Казань\, 420100\, Russian Federation
CATEGORIES:Соревнования
END:VEVENT
BEGIN:VEVENT
DTSTART;VALUE=DATE:20250129
DTEND;VALUE=DATE:20250131
DTSTAMP:20260422T141646
CREATED:20241224T115604Z
LAST-MODIFIED:20250106T204208Z
UID:5029-1738108800-1738281599@fstatarstan.ru
SUMMARY:Кубок Ак Буре
DESCRIPTION:Точная дата проведения соревнований будет опубликована позже! \n\nРеспубликанские классификационные соревнования  «Кубок Ак Буре» (1 этап)\nОдиночное катание. 3 сп. разряд-КМС\nКлассификационные соревнования  «Кубок Ак Буре»\nОдиночное катание. 3 юн. разряд – 1 юн. разряд\nСоревнования  «Кубок Ак Буре»\nОдиночное катание.\nЮный фигурист\, Первые шаги\, Любители\n\n\nГлавный судья: Безменов Е.А.\nЗам.гл.судьи: Аминова А.Р.
URL:https://fstatarstan.ru/event/kubok-ak-bure/
LOCATION:ЛА «Ак Буре»\, Улица Рашида Вагапова\, 17\, Казань\, 420100\, Russian Federation
CATEGORIES:Соревнования
END:VEVENT
BEGIN:VEVENT
DTSTART;VALUE=DATE:20250131
DTEND;VALUE=DATE:20250203
DTSTAMP:20260422T141646
CREATED:20241224T120133Z
LAST-MODIFIED:20250205T185848Z
UID:5033-1738281600-1738540799@fstatarstan.ru
SUMMARY:Сююмбике
DESCRIPTION:Всероссийские соревнования  «Сююмбике»\nСинхронное катание. 1 сп.разряд — КМС\nГлавный судья: Кандыба С.П.\nЗам.гл.судьи: Безменов Е.А.\nРеспубликанские классификационные соревнования  «Сююмбике»\nСинхронное катание. 2 разряд\nГлавный судья: Безменов Е.А.\nЗам.гл.судьи: Гафарова К.Г.\n\n\n Онлайн-табло соревнований  \n Регламент проведения Республиканских классификацонных соревнований «Сююмбике» по фигурному катанию на коньках \n Протокол Республиканских Классификационных соревнований «Сююмбике» по фигурному катанию на коньках. Дисциплина — Синхронное катание (Юноши\, Девушки 10-15 лет) \n Протокол Всероссийских соревнований «Сююмбике» по фигурному катанию на коньках. Дисциплина — Синхронное катание \n Протокол III этапа Кубка России по фигурному катанию на коньках. Дисциплина — Синхронное катание \n\nФотографии\n\nКМС — Короткая программа\nМС — Короткая программа\nКМС — Произвольная программа\nМС — Произвольная программа\nЦеремония награждения
URL:https://fstatarstan.ru/event/vs-syuyumbike/
LOCATION:Дворец спорта\, Казань\, Russian Federation
CATEGORIES:Соревнования
ATTACH;FMTTYPE=image/jpeg:https://fstatarstan.ru/wp-content/uploads/2024/12/suumbike.jpg
END:VEVENT
BEGIN:VEVENT
DTSTART;VALUE=DATE:20250131
DTEND;VALUE=DATE:20250204
DTSTAMP:20260422T141646
CREATED:20241224T120506Z
LAST-MODIFIED:20241224T120506Z
UID:5039-1738281600-1738627199@fstatarstan.ru
SUMMARY:3 этап Кубка России
DESCRIPTION:3 этап Кубка России\nСинхронное катание. МС\nГлавный судья: Кандыба С.П.\nЗам.гл.судьи: Безменов Е.А.
URL:https://fstatarstan.ru/event/3-etap-kubka-rossii/
LOCATION:Дворец спорта\, Казань\, Russian Federation
CATEGORIES:Соревнования
END:VEVENT
END:VCALENDAR